BEGIN:VCALENDAR
VERSION:2.0
PRODID:-//hacksw/handcal//NONSGML v1.0//EN
BEGIN:VEVENT
SUMMARY:Entrainement
UID:ab6f5e89-34d6-4120-aece-422e19deb88e
DTSTART:20260218T090000Z
DTEND:20260218T130000Z
LOCATION:Localisation   
CATEGORIES:Sportif
STATUS:
DESCRIPTION:Entrainement pour toutes les equipes afin de preparer les
 prochains tournois.
URL;VALUE=URI:https://les-archers-selongeens.sportsregions.fr/evenements/2026/02/18/entrainement-2417981
END:VEVENT
END:VCALENDAR
